BEGIN:VCALENDAR
VERSION:2.0
PRODID:-//ChamberMaster//Event Calendar 2.0//EN
METHOD:PUBLISH
X-PUBLISHED-TTL:P3D
REFRESH-INTERVAL:P3D
CALSCALE:GREGORIAN
BEGIN:VEVENT
DTSTART:20210619T170000Z
DTEND:20210620T010000Z
X-MICROSOFT-CDO-ALLDAYEVENT:FALSE
SUMMARY:Juneteenth Celebration by NAACP
DESCRIPTION:Join us for a Juneteenth Celebration of Freedom! Enjoy the lunch\, local entertainment\, black business expo\, and more. There will be outdoor seating only. Face masks and social distancing are encouraged.
X-ALT-DESC;FMTTYPE=text/html:Join us for a Juneteenth Celebration of Freedom! Enjoy the lunch\, local entertainment\, black business expo\, and more. There will be outdoor seating only. Face masks and social distancing are encouraged.
LOCATION:Feaster Park Pavilion
UID:e.3129.5009558
SEQUENCE:3
DTSTAMP:20260423T195630Z
URL:https://business.arkadelphiaalliance.com/events/details/juneteenth-celebration-by-naacp-5009558
END:VEVENT

END:VCALENDAR
