BEGIN:VCALENDAR
VERSION:2.0
PRODID:-//ChamberMaster//Event Calendar 2.0//EN
METHOD:PUBLISH
X-PUBLISHED-TTL:P3D
REFRESH-INTERVAL:P3D
CALSCALE:GREGORIAN
BEGIN:VEVENT
DTSTART:20210107T180000Z
DTEND:20210108T020000Z
X-MICROSOFT-CDO-ALLDAYEVENT:FALSE
SUMMARY:Late til 8
DESCRIPTION:Local businesses stay open to 8:00 pm so that customers can shop and also win door prizes! this is a monthly event that happens every first Thursday of every month.
X-ALT-DESC;FMTTYPE=text/html:Local businesses stay open to 8:00 pm so that customers can shop and also win door prizes! this is a monthly event that happens every first Thursday of every month.
LOCATION:downtown Arkadelphia
UID:e.3129.5009230
SEQUENCE:3
DTSTAMP:20260426T025213Z
URL:https://business.arkadelphiaalliance.com/events/details/late-til-8-01-07-2021-5009230
END:VEVENT

END:VCALENDAR
