BEGIN:VCALENDAR
VERSION:2.0
PRODID:-//ChamberMaster//Event Calendar 2.0//EN
METHOD:PUBLISH
X-PUBLISHED-TTL:P3D
REFRESH-INTERVAL:P3D
CALSCALE:GREGORIAN
BEGIN:VEVENT
DTSTART;VALUE=DATE:20210831
DTEND;VALUE=DATE:20210901
TRANSP:TRANSPARENT
X-MICROSOFT-CDO-ALLDAYEVENT:TRUE
SUMMARY:Leadership Clark County Application Deadline
DESCRIPTION:Completed applications must be received no later than Tuesday\, August 31\, 2021. Applications can be mailed to: Leadership Clark County\, P.O. Box 400\, Arkadelphia\, AR 71923 or emailed to saybra@arkadelphiaalliance.com.
X-ALT-DESC;FMTTYPE=text/html:Completed applications must be received no later than Tuesday\, August 31\, 2021. Applications can be mailed to: Leadership Clark County\, P.O. Box 400\, Arkadelphia\, AR 71923 or emailed to saybra@arkadelphiaalliance.com.
LOCATION:
UID:e.3129.5009562
SEQUENCE:3
DTSTAMP:20260423T150746Z
URL:https://business.arkadelphiaalliance.com/events/details/leadership-clark-county-application-deadline-5009562
END:VEVENT

END:VCALENDAR
