BEGIN:VCALENDAR
VERSION:2.0
PRODID:-//ChamberMaster//Event Calendar 2.0//EN
METHOD:PUBLISH
X-PUBLISHED-TTL:P3D
REFRESH-INTERVAL:P3D
CALSCALE:GREGORIAN
BEGIN:VEVENT
DTSTART:20220113T180000Z
DTEND:20220113T180000Z
X-MICROSOFT-CDO-ALLDAYEVENT:FALSE
SUMMARY:Leadreship Clark County Session
DESCRIPTION:
X-ALT-DESC;FMTTYPE=text/html:
LOCATION:
UID:e.3129.5009567
SEQUENCE:3
DTSTAMP:20260423T070158Z
URL:https://business.arkadelphiaalliance.com/events/details/leadreship-clark-county-session-5009567
END:VEVENT

END:VCALENDAR
