BEGIN:VCALENDAR
VERSION:2.0
PRODID:-//ChamberMaster//Event Calendar 2.0//EN
METHOD:PUBLISH
X-PUBLISHED-TTL:P3D
REFRESH-INTERVAL:P3D
CALSCALE:GREGORIAN
BEGIN:VEVENT
DTSTART:20220112T230000Z
DTEND:20220113T020000Z
X-MICROSOFT-CDO-ALLDAYEVENT:FALSE
SUMMARY:Malvern at Arkadelphia 0
DESCRIPTION:Arkadelphia Varsity Boys' Basketball Game
X-ALT-DESC;FMTTYPE=text/html:Arkadelphia Varsity Boys&#39\; Basketball Game
LOCATION:Arkadelphia Senior High School\, 401 High School Dr\, Arkadelphia\, AR 71923\, USA
UID:e.3129.5009604
SEQUENCE:3
DTSTAMP:20260423T051859Z
URL:https://business.arkadelphiaalliance.com/events/details/malvern-at-arkadelphia-0-5009604
END:VEVENT

END:VCALENDAR
