BEGIN:VCALENDAR
VERSION:2.0
PRODID:-//ChamberMaster//Event Calendar 2.0//EN
METHOD:PUBLISH
X-PUBLISHED-TTL:P3D
REFRESH-INTERVAL:P3D
CALSCALE:GREGORIAN
BEGIN:VEVENT
DTSTART:20230116T200000Z
DTEND:20230116T220000Z
X-MICROSOFT-CDO-ALLDAYEVENT:FALSE
SUMMARY:MLK Jr. Day March
DESCRIPTION:The entire community is encouraged to take part in the Annual Marade!
X-ALT-DESC;FMTTYPE=text/html:The entire community is encouraged to take part in the Annual Marade!
LOCATION:The MLK Jr. march and parade will kick off at Mount Olive Baptist Church and end at the Courthouse gazebo.
UID:e.3129.5009932
SEQUENCE:3
DTSTAMP:20260422T064818Z
URL:https://business.arkadelphiaalliance.com/events/details/mlk-jr-day-march-5009932
END:VEVENT

END:VCALENDAR
