BEGIN:VCALENDAR
VERSION:2.0
PRODID:-//ChamberMaster//Event Calendar 2.0//EN
METHOD:PUBLISH
X-PUBLISHED-TTL:P3D
REFRESH-INTERVAL:P3D
CALSCALE:GREGORIAN
BEGIN:VEVENT
DTSTART:20191121T143000Z
DTEND:20191121T160000Z
X-MICROSOFT-CDO-ALLDAYEVENT:FALSE
SUMMARY:NEW! Going Local for Restaurants: Connecting Your Menu to Your Community
DESCRIPTION:The restaurant industry may be the most competitive segment of the food economy. Shrinking margins and the ubiquity of national chain restaurants have driven many restaurants to seek the cheaper or easier to source ingredients available. But as consumers have changed how they value food\, cooking with fresh locally sourced ingredients is seen as a competitive advantage in a changing market. Switching your ingredient sources from a big distributor (that sells all your needed ingredients\, delivers at the same time every week\, and on a single invoice)\, to a network of small farmers and producers that each have their own order/delivery systems\, schedules\, pricing and availability can be a challenge. This workshop is designed to provide strategies to address those challenges\, and messaging strategies to make sure you get maximum value for your efforts. Event is offered at no cost\, pre-registration is required.
X-ALT-DESC;FMTTYPE=text/html:The restaurant industry may be the most competitive segment of the food economy. Shrinking margins and the ubiquity of national chain restaurants have driven many restaurants to seek the cheaper or easier to source ingredients available. But as consumers have changed how they value food\, cooking with fresh locally sourced ingredients is seen as a competitive advantage in a changing market. Switching your ingredient sources from a big distributor (that sells all your needed ingredients\, delivers at the same time every week\, and on a single invoice)\, to a network of small farmers and producers that each have their own order/delivery systems\, schedules\, pricing and availability can be a challenge. This workshop is designed to provide strategies to address those challenges\, and messaging strategies to make sure you get maximum value for your efforts. Event is offered at no cost\, pre-registration is required.
LOCATION:HSU Hot Springs Landmark Building 201 Market St. Hot Springs\, AR 71901
UID:e.3129.5009166
SEQUENCE:3
DTSTAMP:20260423T183337Z
URL:https://business.arkadelphiaalliance.com/events/details/new-going-local-for-restaurants-connecting-your-menu-to-your-community-5009166
END:VEVENT

END:VCALENDAR
