BEGIN:VCALENDAR
VERSION:2.0
PRODID:-//ChamberMaster//Event Calendar 2.0//EN
METHOD:PUBLISH
X-PUBLISHED-TTL:P3D
REFRESH-INTERVAL:P3D
CALSCALE:GREGORIAN
BEGIN:VEVENT
DTSTART:20230117T170000Z
DTEND:20230117T180000Z
X-MICROSOFT-CDO-ALLDAYEVENT:FALSE
SUMMARY:New Peake Elementary Groundbreaking ceremony
DESCRIPTION:Arkadelphia Public School District is hosting a Groundbreaking ceremony for the new Peake Elementary School on Tuesday. All are invited to attend.
X-ALT-DESC;FMTTYPE=text/html:Arkadelphia Public School District is hosting a Groundbreaking ceremony for the new Peake Elementary School on Tuesday. All are invited to attend.
LOCATION:1609 Pine Street.
UID:e.3129.5009933
SEQUENCE:3
DTSTAMP:20260422T064555Z
URL:https://business.arkadelphiaalliance.com/events/details/new-peake-elementary-groundbreaking-ceremony-5009933
END:VEVENT

END:VCALENDAR
