BEGIN:VCALENDAR
VERSION:2.0
PRODID:-//ChamberMaster//Event Calendar 2.0//EN
METHOD:PUBLISH
X-PUBLISHED-TTL:P3D
REFRESH-INTERVAL:P3D
CALSCALE:GREGORIAN
BEGIN:VEVENT
DTSTART:20210219T013000Z
DTEND:20210219T033000Z
X-MICROSOFT-CDO-ALLDAYEVENT:FALSE
SUMMARY:OBU men vs ECU men basketball game
DESCRIPTION:Ouachita Baptist University men vs East Central University men basketball game.
X-ALT-DESC;FMTTYPE=text/html:Ouachita Baptist University men vs East Central University men basketball game.
LOCATION:Bill Vining Arena
UID:e.3129.5009362
SEQUENCE:3
DTSTAMP:20260426T005142Z
URL:https://business.arkadelphiaalliance.com/events/details/obu-men-vs-ecu-men-basketball-game-02-18-2021-5009362
END:VEVENT

END:VCALENDAR
