BEGIN:VCALENDAR
VERSION:2.0
PRODID:-//ChamberMaster//Event Calendar 2.0//EN
METHOD:PUBLISH
X-PUBLISHED-TTL:P3D
REFRESH-INTERVAL:P3D
CALSCALE:GREGORIAN
BEGIN:VEVENT
DTSTART:20210206T210000Z
DTEND:20210206T230000Z
X-MICROSOFT-CDO-ALLDAYEVENT:FALSE
SUMMARY:OBU men vs Harding University men basketball game
DESCRIPTION:Ouachita Baptist University men vs Harding University men basketball game
X-ALT-DESC;FMTTYPE=text/html:Ouachita Baptist University men vs Harding University men basketball game
LOCATION:Bill Vining Arena
UID:e.3129.5009359
SEQUENCE:3
DTSTAMP:20260425T225834Z
URL:https://business.arkadelphiaalliance.com/events/details/obu-men-vs-harding-university-men-basketball-game-02-06-2021-5009359
END:VEVENT

END:VCALENDAR
