BEGIN:VCALENDAR
VERSION:2.0
PRODID:-//ChamberMaster//Event Calendar 2.0//EN
METHOD:PUBLISH
X-PUBLISHED-TTL:P3D
REFRESH-INTERVAL:P3D
CALSCALE:GREGORIAN
BEGIN:VEVENT
DTSTART:20201206T013000Z
DTEND:20201206T033000Z
X-MICROSOFT-CDO-ALLDAYEVENT:FALSE
SUMMARY:OBU men vs Harding University men basketball game
DESCRIPTION:Ouachita Baptist University men vs Harding University men basketball game.
X-ALT-DESC;FMTTYPE=text/html:Ouachita Baptist University men vs Harding University men basketball game.
LOCATION:Searcy\, AR
UID:e.3129.5009348
SEQUENCE:3
DTSTAMP:20260426T030740Z
URL:https://business.arkadelphiaalliance.com/events/details/obu-men-vs-harding-university-men-basketball-game-5009348
END:VEVENT

END:VCALENDAR
