BEGIN:VCALENDAR
VERSION:2.0
PRODID:-//ChamberMaster//Event Calendar 2.0//EN
METHOD:PUBLISH
X-PUBLISHED-TTL:P3D
REFRESH-INTERVAL:P3D
CALSCALE:GREGORIAN
BEGIN:VEVENT
DTSTART:20210115T013000Z
DTEND:20210115T033000Z
X-MICROSOFT-CDO-ALLDAYEVENT:FALSE
SUMMARY:OBU men vs HSU men basketball game
DESCRIPTION:Ouachita Baptist University men vs Henderson State University men basketball game.
X-ALT-DESC;FMTTYPE=text/html:Ouachita Baptist University men vs Henderson State University men basketball game.
LOCATION:Bill Vining Arena
UID:e.3129.5009352
SEQUENCE:3
DTSTAMP:20260426T005832Z
URL:https://business.arkadelphiaalliance.com/events/details/obu-men-vs-hsu-men-basketball-game-5009352
END:VEVENT

END:VCALENDAR
