BEGIN:VCALENDAR
VERSION:2.0
PRODID:-//ChamberMaster//Event Calendar 2.0//EN
METHOD:PUBLISH
X-PUBLISHED-TTL:P3D
REFRESH-INTERVAL:P3D
CALSCALE:GREGORIAN
BEGIN:VEVENT
DTSTART:20210129T013000Z
DTEND:20210129T033000Z
X-MICROSOFT-CDO-ALLDAYEVENT:FALSE
SUMMARY:OBU men vs OBU men basketball game
DESCRIPTION:Ouachita Baptist University men vs Oklahoma Baptist University men basketball game.
X-ALT-DESC;FMTTYPE=text/html:Ouachita Baptist University men vs Oklahoma Baptist University men basketball game.
LOCATION:Bill Vining Arena
UID:e.3129.5009356
SEQUENCE:3
DTSTAMP:20260426T030157Z
URL:https://business.arkadelphiaalliance.com/events/details/obu-men-vs-obu-men-basketball-game-01-28-2021-5009356
END:VEVENT

END:VCALENDAR
