BEGIN:VCALENDAR
VERSION:2.0
PRODID:-//ChamberMaster//Event Calendar 2.0//EN
METHOD:PUBLISH
X-PUBLISHED-TTL:P3D
REFRESH-INTERVAL:P3D
CALSCALE:GREGORIAN
BEGIN:VEVENT
DTSTART:20210122T013000Z
DTEND:20210122T033000Z
X-MICROSOFT-CDO-ALLDAYEVENT:FALSE
SUMMARY:OBU men vs SEOSU men basketball game
DESCRIPTION:Ouachita Baptist University men vs Southeastern Oklahoma State University men basketball game.
X-ALT-DESC;FMTTYPE=text/html:Ouachita Baptist University men vs Southeastern Oklahoma State University men basketball game.
LOCATION:Durant\, OK
UID:e.3129.5009354
SEQUENCE:3
DTSTAMP:20260426T005931Z
URL:https://business.arkadelphiaalliance.com/events/details/obu-men-vs-seosu-men-basketball-game-5009354
END:VEVENT

END:VCALENDAR
