BEGIN:VCALENDAR
VERSION:2.0
PRODID:-//ChamberMaster//Event Calendar 2.0//EN
METHOD:PUBLISH
X-PUBLISHED-TTL:P3D
REFRESH-INTERVAL:P3D
CALSCALE:GREGORIAN
BEGIN:VEVENT
DTSTART:20210213T210000Z
DTEND:20210213T230000Z
X-MICROSOFT-CDO-ALLDAYEVENT:FALSE
SUMMARY:OBU men vs SWOSU men basketball game
DESCRIPTION:Ouachita Baptist University men vs Southwestern Oklahoma State University men basketball game.
X-ALT-DESC;FMTTYPE=text/html:Ouachita Baptist University men vs Southwestern Oklahoma State University men basketball game.
LOCATION:Weatherford\, OK
UID:e.3129.5009361
SEQUENCE:3
DTSTAMP:20260425T230036Z
URL:https://business.arkadelphiaalliance.com/events/details/obu-men-vs-swosu-men-basketball-game-02-13-2021-5009361
END:VEVENT

END:VCALENDAR
