BEGIN:VCALENDAR
VERSION:2.0
PRODID:-//ChamberMaster//Event Calendar 2.0//EN
METHOD:PUBLISH
X-PUBLISHED-TTL:P3D
REFRESH-INTERVAL:P3D
CALSCALE:GREGORIAN
BEGIN:VEVENT
DTSTART:20211023T173000Z
DTEND:20211023T203000Z
X-MICROSOFT-CDO-ALLDAYEVENT:FALSE
SUMMARY:OBU Soccer
DESCRIPTION:vs.NSU
X-ALT-DESC;FMTTYPE=text/html:vs.NSU
LOCATION:
UID:e.3129.5009735
SEQUENCE:3
DTSTAMP:20260423T110245Z
URL:https://business.arkadelphiaalliance.com/events/details/obu-soccer-5009735
END:VEVENT

END:VCALENDAR
