BEGIN:VCALENDAR
VERSION:2.0
PRODID:-//ChamberMaster//Event Calendar 2.0//EN
METHOD:PUBLISH
X-PUBLISHED-TTL:P3D
REFRESH-INTERVAL:P3D
CALSCALE:GREGORIAN
BEGIN:VEVENT
DTSTART:20211021T220000Z
DTEND:20211022T010000Z
X-MICROSOFT-CDO-ALLDAYEVENT:FALSE
SUMMARY:OBU Soccer - Women's
DESCRIPTION:
X-ALT-DESC;FMTTYPE=text/html:
LOCATION:
UID:e.3129.5009717
SEQUENCE:3
DTSTAMP:20260423T111041Z
URL:https://business.arkadelphiaalliance.com/events/details/obu-soccer-women-s-5009717
END:VEVENT

END:VCALENDAR
