BEGIN:VCALENDAR
VERSION:2.0
PRODID:-//ChamberMaster//Event Calendar 2.0//EN
METHOD:PUBLISH
X-PUBLISHED-TTL:P3D
REFRESH-INTERVAL:P3D
CALSCALE:GREGORIAN
BEGIN:VEVENT
DTSTART:20210424T180000Z
DTEND:20210424T230000Z
X-MICROSOFT-CDO-ALLDAYEVENT:FALSE
SUMMARY:OBU Softball vs. East Central
DESCRIPTION:
X-ALT-DESC;FMTTYPE=text/html:
LOCATION:Sully Anderson Field
UID:e.3129.5009389
SEQUENCE:3
DTSTAMP:20260423T231248Z
URL:https://business.arkadelphiaalliance.com/events/details/obu-softball-vs-east-central-04-24-2021-5009389
END:VEVENT

END:VCALENDAR
