BEGIN:VCALENDAR
VERSION:2.0
PRODID:-//ChamberMaster//Event Calendar 2.0//EN
METHOD:PUBLISH
X-PUBLISHED-TTL:P3D
REFRESH-INTERVAL:P3D
CALSCALE:GREGORIAN
BEGIN:VEVENT
DTSTART:20210501T180000Z
DTEND:20210501T210000Z
X-MICROSOFT-CDO-ALLDAYEVENT:FALSE
SUMMARY:OBU Softball vs. Southern Nazarene
DESCRIPTION:
X-ALT-DESC;FMTTYPE=text/html:
LOCATION:Sully Anderson FIeld
UID:e.3129.5009394
SEQUENCE:3
DTSTAMP:20260423T200839Z
URL:https://business.arkadelphiaalliance.com/events/details/obu-softball-vs-southern-nazarene-05-01-2021-5009394
END:VEVENT

END:VCALENDAR
