BEGIN:VCALENDAR
VERSION:2.0
PRODID:-//ChamberMaster//Event Calendar 2.0//EN
METHOD:PUBLISH
X-PUBLISHED-TTL:P3D
REFRESH-INTERVAL:P3D
CALSCALE:GREGORIAN
BEGIN:VEVENT
DTSTART:20210825T010000Z
DTEND:20210825T023000Z
X-MICROSOFT-CDO-ALLDAYEVENT:FALSE
SUMMARY:OBU Spotlight Event
DESCRIPTION:Community fair for local businesses\, organizations\,and churches. Register at Obu.edu/Spotlight by August 17
X-ALT-DESC;FMTTYPE=text/html:Community fair for local businesses\, organizations\,and churches. Register at Obu.edu/Spotlight by August 17
LOCATION:
UID:e.3129.5009576
SEQUENCE:3
DTSTAMP:20260423T145247Z
URL:https://business.arkadelphiaalliance.com/events/details/obu-spotlight-event-5009576
END:VEVENT

END:VCALENDAR
