BEGIN:VCALENDAR
VERSION:2.0
PRODID:-//ChamberMaster//Event Calendar 2.0//EN
METHOD:PUBLISH
X-PUBLISHED-TTL:P3D
REFRESH-INTERVAL:P3D
CALSCALE:GREGORIAN
BEGIN:VEVENT
DTSTART:20211002T170000Z
DTEND:20211002T220000Z
X-MICROSOFT-CDO-ALLDAYEVENT:FALSE
SUMMARY:OBU vs. Northwestern Oklahoma State
DESCRIPTION:OBU Football conference game
X-ALT-DESC;FMTTYPE=text/html:OBU Football conference game
LOCATION:ARKADELPHIA\, ARK. CLIFF HARRIS STADIUM
UID:e.3129.5009663
SEQUENCE:3
DTSTAMP:20260423T105741Z
URL:https://business.arkadelphiaalliance.com/events/details/obu-vs-northwestern-oklahoma-state-5009663
END:VEVENT

END:VCALENDAR
