BEGIN:VCALENDAR
VERSION:2.0
PRODID:-//ChamberMaster//Event Calendar 2.0//EN
METHOD:PUBLISH
X-PUBLISHED-TTL:P3D
REFRESH-INTERVAL:P3D
CALSCALE:GREGORIAN
BEGIN:VEVENT
DTSTART:20211026T003000Z
DTEND:20211026T023000Z
X-MICROSOFT-CDO-ALLDAYEVENT:FALSE
SUMMARY:OBU Wind Ensemble Concert
DESCRIPTION:
X-ALT-DESC;FMTTYPE=text/html:
LOCATION:
UID:e.3129.5009738
SEQUENCE:3
DTSTAMP:20260423T105716Z
URL:https://business.arkadelphiaalliance.com/events/details/obu-wind-ensemble-concert-5009738
END:VEVENT

END:VCALENDAR
