BEGIN:VCALENDAR
VERSION:2.0
PRODID:-//ChamberMaster//Event Calendar 2.0//EN
METHOD:PUBLISH
X-PUBLISHED-TTL:P3D
REFRESH-INTERVAL:P3D
CALSCALE:GREGORIAN
BEGIN:VEVENT
DTSTART;VALUE=DATE:20211001
DTEND;VALUE=DATE:20211002
TRANSP:TRANSPARENT
X-MICROSOFT-CDO-ALLDAYEVENT:TRUE
SUMMARY:OUACHITA TIGER INVITATIONAL
DESCRIPTION:OBU Women's Cross Country
X-ALT-DESC;FMTTYPE=text/html:OBU Women&#39\;s Cross Country
LOCATION:ARKADELPHIA\, ARK.
UID:e.3129.5009675
SEQUENCE:3
DTSTAMP:20260423T110604Z
URL:https://business.arkadelphiaalliance.com/events/details/ouachita-tiger-invitational-5009675
END:VEVENT

END:VCALENDAR
