BEGIN:VCALENDAR
VERSION:2.0
PRODID:-//ChamberMaster//Event Calendar 2.0//EN
METHOD:PUBLISH
X-PUBLISHED-TTL:P3D
REFRESH-INTERVAL:P3D
CALSCALE:GREGORIAN
BEGIN:VEVENT
DTSTART:20210918T150000Z
DTEND:20210918T170000Z
X-MICROSOFT-CDO-ALLDAYEVENT:FALSE
SUMMARY:Swim- OBU Purple & White Swim Meet
DESCRIPTION:
X-ALT-DESC;FMTTYPE=text/html:
LOCATION:Sturgis Physical Education Center\, Arkadelphia\, AR 71923
UID:e.3129.5009658
SEQUENCE:3
DTSTAMP:20260423T130419Z
URL:https://business.arkadelphiaalliance.com/events/details/swim-obu-purple-white-swim-meet-5009658
END:VEVENT

END:VCALENDAR
