BEGIN:VCALENDAR
VERSION:2.0
PRODID:-//ChamberMaster//Event Calendar 2.0//EN
METHOD:PUBLISH
X-PUBLISHED-TTL:P3D
REFRESH-INTERVAL:P3D
CALSCALE:GREGORIAN
BEGIN:VEVENT
DTSTART:20211008T210000Z
DTEND:20211008T230000Z
X-MICROSOFT-CDO-ALLDAYEVENT:FALSE
SUMMARY:Swim- OBU vs. Oklahoma Christian
DESCRIPTION:
X-ALT-DESC;FMTTYPE=text/html:
LOCATION:Sturgis Physical Education Center\, Arkadelphia\, AR 71923
UID:e.3129.5009661
SEQUENCE:3
DTSTAMP:20260423T110806Z
URL:https://business.arkadelphiaalliance.com/events/details/swim-obu-vs-oklahoma-christian-5009661
END:VEVENT

END:VCALENDAR
