BEGIN:VCALENDAR
VERSION:2.0
PRODID:-//ChamberMaster//Event Calendar 2.0//EN
METHOD:PUBLISH
X-PUBLISHED-TTL:P3D
REFRESH-INTERVAL:P3D
CALSCALE:GREGORIAN
BEGIN:VEVENT
DTSTART:20210730T233000Z
DTEND:20210731T023000Z
X-MICROSOFT-CDO-ALLDAYEVENT:FALSE
SUMMARY:Taco Lot Fiesta
DESCRIPTION:Let's bring the community together for a fun\, entertaining night of great food and good people!
X-ALT-DESC;FMTTYPE=text/html:Let&#39\;s bring the community together for a fun\, entertaining night of great food and good people!
LOCATION:Parking Lot Next to Group Living
UID:e.3129.5009573
SEQUENCE:3
DTSTAMP:20260423T164158Z
URL:https://business.arkadelphiaalliance.com/events/details/taco-lot-fiesta-5009573
END:VEVENT

END:VCALENDAR
