BEGIN:VCALENDAR
VERSION:2.0
PRODID:-//ChamberMaster//Event Calendar 2.0//EN
METHOD:PUBLISH
X-PUBLISHED-TTL:P3D
REFRESH-INTERVAL:P3D
CALSCALE:GREGORIAN
BEGIN:VEVENT
DTSTART:20210818T210000Z
DTEND:20210819T000000Z
X-MICROSOFT-CDO-ALLDAYEVENT:FALSE
SUMMARY:Tennis Murfreesboro at Arkadelphia High School
DESCRIPTION:
X-ALT-DESC;FMTTYPE=text/html:
LOCATION:Arkadelphia Senior High School\, 401 High School Dr\, Arkadelphia\, AR 71923\,
UID:e.3129.5009626
SEQUENCE:3
DTSTAMP:20260423T170143Z
URL:https://business.arkadelphiaalliance.com/events/details/tennis-murfreesboro-at-arkadelphia-high-school-5009626
END:VEVENT

END:VCALENDAR
