BEGIN:VCALENDAR
VERSION:2.0
PRODID:-//ChamberMaster//Event Calendar 2.0//EN
METHOD:PUBLISH
X-PUBLISHED-TTL:P3D
REFRESH-INTERVAL:P3D
CALSCALE:GREGORIAN
BEGIN:VEVENT
DTSTART:20210923T210000Z
DTEND:20210924T000000Z
X-MICROSOFT-CDO-ALLDAYEVENT:FALSE
SUMMARY:Tennis- Nashville\,Benton\, & Arkadelphia High
DESCRIPTION:
X-ALT-DESC;FMTTYPE=text/html:
LOCATION:Arkadelphia Senior High School\, 401 High School Dr\, Arkadelphia\, AR 71923\,
UID:e.3129.5009631
SEQUENCE:3
DTSTAMP:20260423T130427Z
URL:https://business.arkadelphiaalliance.com/events/details/tennis-nashville-benton-arkadelphia-high-5009631
END:VEVENT

END:VCALENDAR
