BEGIN:VCALENDAR
VERSION:2.0
PRODID:-//ChamberMaster//Event Calendar 2.0//EN
METHOD:PUBLISH
X-PUBLISHED-TTL:P3D
REFRESH-INTERVAL:P3D
CALSCALE:GREGORIAN
BEGIN:VEVENT
DTSTART;VALUE=DATE:20211120
DTEND;VALUE=DATE:20211121
TRANSP:TRANSPARENT
X-MICROSOFT-CDO-ALLDAYEVENT:TRUE
SUMMARY:The Farmhouse Special Event
DESCRIPTION:In house taste test Discount spin wheel Hot cocoa Cookies for Santa
X-ALT-DESC;FMTTYPE=text/html:In house taste test Discount spin wheel Hot cocoa Cookies for Santa
LOCATION:636 Main St.
UID:e.3129.5009770
SEQUENCE:3
DTSTAMP:20260423T112340Z
URL:https://business.arkadelphiaalliance.com/events/details/the-farmhouse-special-event-11-20-2021-5009770
END:VEVENT

END:VCALENDAR
