BEGIN:VCALENDAR
VERSION:2.0
PRODID:-//ChamberMaster//Event Calendar 2.0//EN
METHOD:PUBLISH
X-PUBLISHED-TTL:P3D
REFRESH-INTERVAL:P3D
CALSCALE:GREGORIAN
BEGIN:VEVENT
DTSTART:20211220T180000Z
DTEND:20211223T180000Z
X-MICROSOFT-CDO-ALLDAYEVENT:FALSE
SUMMARY:The Farmhouse Special Event
DESCRIPTION:Cookies for Santa
X-ALT-DESC;FMTTYPE=text/html:Cookies for Santa
LOCATION:636 Main St. Arkadelphia\, AR
UID:e.3129.5009771
SEQUENCE:3
DTSTAMP:20260423T072038Z
URL:https://business.arkadelphiaalliance.com/events/details/the-farmhouse-special-event-12-20-2021-5009771
END:VEVENT

END:VCALENDAR
