BEGIN:VCALENDAR
VERSION:2.0
PRODID:-//ChamberMaster//Event Calendar 2.0//EN
METHOD:PUBLISH
X-PUBLISHED-TTL:P3D
REFRESH-INTERVAL:P3D
CALSCALE:GREGORIAN
BEGIN:VEVENT
DTSTART;VALUE=DATE:20211202
DTEND;VALUE=DATE:20211203
TRANSP:TRANSPARENT
X-MICROSOFT-CDO-ALLDAYEVENT:TRUE
SUMMARY:The Farmhouse Special Event
DESCRIPTION:In house taste test Discount spin wheel Hot cocoa
X-ALT-DESC;FMTTYPE=text/html:In house taste test Discount spin wheel Hot cocoa
LOCATION:636 Main St. Arkadelphia\, AR
UID:e.3129.5009769
SEQUENCE:3
DTSTAMP:20260423T071617Z
URL:https://business.arkadelphiaalliance.com/events/details/the-farmhouse-special-event-5009769
END:VEVENT

END:VCALENDAR
