BEGIN:VCALENDAR
VERSION:2.0
PRODID:-//ChamberMaster//Event Calendar 2.0//EN
METHOD:PUBLISH
X-PUBLISHED-TTL:P3D
REFRESH-INTERVAL:P3D
CALSCALE:GREGORIAN
BEGIN:VEVENT
DTSTART:20210823T220000Z
DTEND:20210824T010000Z
X-MICROSOFT-CDO-ALLDAYEVENT:FALSE
SUMMARY:Volleyball-Arkansas High Texarkana at Arkadelphia
DESCRIPTION:
X-ALT-DESC;FMTTYPE=text/html:
LOCATION:Arkadelphia Senior High School\, 401 High School Dr\, Arkadelphia\, AR 71923
UID:e.3129.5009611
SEQUENCE:3
DTSTAMP:20260423T151608Z
URL:https://business.arkadelphiaalliance.com/events/details/volleyball-arkansas-high-texarkana-at-arkadelphia-5009611
END:VEVENT

END:VCALENDAR
