BEGIN:VCALENDAR
VERSION:2.0
PRODID:-//ChamberMaster//Event Calendar 2.0//EN
METHOD:PUBLISH
X-PUBLISHED-TTL:P3D
REFRESH-INTERVAL:P3D
CALSCALE:GREGORIAN
BEGIN:VEVENT
DTSTART:20211011T213000Z
DTEND:20211012T010000Z
X-MICROSOFT-CDO-ALLDAYEVENT:FALSE
SUMMARY:Volleyball Magnolia at Arkadelphia (7\,8\,9)
DESCRIPTION:
X-ALT-DESC;FMTTYPE=text/html:
LOCATION:Arkadelphia Senior High School\, 401 High School Dr\, Arkadelphia\, AR 71923
UID:e.3129.5009623
SEQUENCE:3
DTSTAMP:20260423T111322Z
URL:https://business.arkadelphiaalliance.com/events/details/volleyball-magnolia-at-arkadelphia-7-8-9-5009623
END:VEVENT

END:VCALENDAR
