BEGIN:VCALENDAR
VERSION:2.0
PRODID:-//ChamberMaster//Event Calendar 2.0//EN
METHOD:PUBLISH
X-PUBLISHED-TTL:P3D
REFRESH-INTERVAL:P3D
CALSCALE:GREGORIAN
BEGIN:VEVENT
DTSTART;VALUE=DATE:20210723
DTEND;VALUE=DATE:20210724
TRANSP:TRANSPARENT
X-MICROSOFT-CDO-ALLDAYEVENT:TRUE
SUMMARY:Willie Tate Golf Tournament Classic
DESCRIPTION:Courtyard Gardens Health & Rehab is sponsoring event.
X-ALT-DESC;FMTTYPE=text/html:Courtyard Gardens Health &amp\; Rehab is sponsoring event.
LOCATION:DeGray Lake Resort Golf Course
UID:e.3129.5009415
SEQUENCE:3
DTSTAMP:20260423T164454Z
URL:https://business.arkadelphiaalliance.com/events/details/willie-tate-golf-tournament-classic-5009415
END:VEVENT

END:VCALENDAR
